BEGIN:VCALENDAR
VERSION:2.0
PRODID:-//Circo bajo el Tejado - ECPv6.15.20//NONSGML v1.0//EN
CALSCALE:GREGORIAN
METHOD:PUBLISH
X-ORIGINAL-URL:https://circobajoeltejado.es
X-WR-CALDESC:Eventos para Circo bajo el Tejado
REFRESH-INTERVAL;VALUE=DURATION:PT1H
X-Robots-Tag:noindex
X-PUBLISHED-TTL:PT1H
BEGIN:VTIMEZONE
TZID:Europe/Madrid
BEGIN:DAYLIGHT
TZOFFSETFROM:+0100
TZOFFSETTO:+0200
TZNAME:CEST
DTSTART:20240331T010000
END:DAYLIGHT
BEGIN:STANDARD
TZOFFSETFROM:+0200
TZOFFSETTO:+0100
TZNAME:CET
DTSTART:20241027T010000
END:STANDARD
BEGIN:DAYLIGHT
TZOFFSETFROM:+0100
TZOFFSETTO:+0200
TZNAME:CEST
DTSTART:20250330T010000
END:DAYLIGHT
BEGIN:STANDARD
TZOFFSETFROM:+0200
TZOFFSETTO:+0100
TZNAME:CET
DTSTART:20251026T010000
END:STANDARD
BEGIN:DAYLIGHT
TZOFFSETFROM:+0100
TZOFFSETTO:+0200
TZNAME:CEST
DTSTART:20260329T010000
END:DAYLIGHT
BEGIN:STANDARD
TZOFFSETFROM:+0200
TZOFFSETTO:+0100
TZNAME:CET
DTSTART:20261025T010000
END:STANDARD
END:VTIMEZONE
BEGIN:VEVENT
DTSTART;VALUE=DATE:20251031
DTEND;VALUE=DATE:20251102
DTSTAMP:20260425T133208
CREATED:20251030T113427Z
LAST-MODIFIED:20251030T113427Z
UID:5849-1761868800-1762041599@circobajoeltejado.es
SUMMARY:CALABAZAS Y CALAVERAS
DESCRIPTION:🎃👻 ¡Nos vemos en el Botánico! 👻🎃 \nEste 31 de octubre\, entre las 20:00 y las 00:00\, Circo Bajo el Tejado se adentra en Calabazas y Calaveras\, la velada más terrorífica para público adulto. 🕸️ \nEl Botánico se llenará de criaturas inquietantes\, y nuestros artistas estarán listos para darles un buen susto… ¿te atreves a encontrarlos? 🕯️Ven en compañía y con un disfraz que no levante sospechas\, porque las sombras están vivas y solo los más valientes sobrevivirán. \n📍 Explora el Jardín\, localiza los puntos más terroríficos con el plano y prepárate para encuentros inesperados.🎶 Después\, disfruta de música\, baile\, food trucks y bar en la gran carpa hasta la medianoche. \n💀 Y si vienes con niños\, el 1 de noviembre tenemos Samaín familiar: \n\n\n16:30–18:00: Paseo inquietante por el Jardín 🌑 \n\n\n18:00–20:30: Juegos\, pintacaras\, castañas\, sidra dulce y la música de DJ Miguel Pika 🎵 \n\n\n⚡ Nos vemos allí… y no digas que no te avisamos. \n#Halloween #CalabasyCalaveras #CircoBajoElTejado #Samaín #Botánico #NocheDeBrujas #ArteCircense #SustosGarantizados
URL:https://circobajoeltejado.es/event/calabazas-y-calaveras/
LOCATION:Jardín Botánico de GIjón
CATEGORIES:Agenda
ATTACH;FMTTYPE=image/jpeg:https://circobajoeltejado.es/wp-content/uploads/2025/10/Imagen-de-WhatsApp-2025-10-30-a-las-11.35.45_db884fea.jpg
END:VEVENT
BEGIN:VEVENT
DTSTART;TZID=Europe/Madrid:20251108T113000
DTEND;TZID=Europe/Madrid:20251108T133000
DTSTAMP:20260425T133208
CREATED:20251009T104147Z
LAST-MODIFIED:20251020T084350Z
UID:5839-1762601400-1762608600@circobajoeltejado.es
SUMMARY:✨ 𝐓𝐚𝐥𝐥𝐞𝐫 𝐝𝐞 𝐂𝐢𝐫𝐜𝐨 𝐞𝐧 𝐅𝐚𝐦𝐢𝐥𝐢𝐚 ✨
DESCRIPTION:🎪❤️ ¡𝐔𝐧 𝐝𝐢́𝐚 𝐩𝐚𝐫𝐚 𝐜𝐨𝐦𝐩𝐚𝐫𝐭𝐢𝐫\, 𝐫𝐞𝐢́𝐫 𝐲 𝐯𝐨𝐥𝐚𝐫 𝐞𝐧 𝐟𝐚𝐦𝐢𝐥𝐢𝐚! ❤️🎪 \n¿Te imaginas hacer acrobacias con tu peque?¿O probar los malabares mientras os reís juntos como nunca?¡El viernes 8 de noviembre os espera una experiencia diferente y muy\, muy especial! \n✨ 𝐓𝐚𝐥𝐥𝐞𝐫 𝐝𝐞 𝐂𝐢𝐫𝐜𝐨 𝐞𝐧 𝐅𝐚𝐦𝐢𝐥𝐢𝐚 ✨💫 Para grandes y peques con ganas de pasarlo bien y probar algo nuevo \n📅 8 de noviembre🕰 De 11:30 a 13:30📍 En Circo Bajo el Tejado (Gijón)👨‍👩‍👧‍👦 Adulto + niño: 15 €➕ Otro adulto o peque: +5 €📌 Mínimo 7 familias — plazas limitadas💳 Pago por transferencia por adelantado📬 Inscripciones: circobajoeltejado@gmail.com \n🌈 No hace falta experiencia\, solo ganas de jugar\, moverse y crear recuerdos juntos.🧡 ¡Una aventura única para disfrutar en equipo! \n📸 ¡Y sí\, puedes sacar fotos para recordar este día tan especial! \n#CircoEnFamilia #CircoBajoElTejado #PlanesEnFamilia #TallerDeCirco #GijónEnFamilia #MomentosQueUnen
URL:https://circobajoeltejado.es/event/%e2%9c%a8-%f0%9d%90%93%f0%9d%90%9a%f0%9d%90%a5%f0%9d%90%a5%f0%9d%90%9e%f0%9d%90%ab-%f0%9d%90%9d%f0%9d%90%9e-%f0%9d%90%82%f0%9d%90%a2%f0%9d%90%ab%f0%9d%90%9c%f0%9d%90%a8-%f0%9d%90%9e%f0%9d%90%a7/
LOCATION:Circo Bajo el Tejado\, C/Gerona 8\, Gijón\, Asturias\, 33212\, España
CATEGORIES:Agenda
ATTACH;FMTTYPE=image/jpeg:https://circobajoeltejado.es/wp-content/uploads/2025/10/circo-en-familia-noviembre-25-1.jpg
END:VEVENT
END:VCALENDAR