BEGIN:VCALENDAR
VERSION:2.0
PRODID:-//Circo bajo el Tejado - ECPv6.15.20//NONSGML v1.0//EN
CALSCALE:GREGORIAN
METHOD:PUBLISH
X-WR-CALNAME:Circo bajo el Tejado
X-ORIGINAL-URL:https://circobajoeltejado.es
X-WR-CALDESC:Eventos para Circo bajo el Tejado
REFRESH-INTERVAL;VALUE=DURATION:PT1H
X-Robots-Tag:noindex
X-PUBLISHED-TTL:PT1H
BEGIN:VTIMEZONE
TZID:Europe/Madrid
BEGIN:DAYLIGHT
TZOFFSETFROM:+0100
TZOFFSETTO:+0200
TZNAME:CEST
DTSTART:20210328T010000
END:DAYLIGHT
BEGIN:STANDARD
TZOFFSETFROM:+0200
TZOFFSETTO:+0100
TZNAME:CET
DTSTART:20211031T010000
END:STANDARD
BEGIN:DAYLIGHT
TZOFFSETFROM:+0100
TZOFFSETTO:+0200
TZNAME:CEST
DTSTART:20220327T010000
END:DAYLIGHT
BEGIN:STANDARD
TZOFFSETFROM:+0200
TZOFFSETTO:+0100
TZNAME:CET
DTSTART:20221030T010000
END:STANDARD
BEGIN:DAYLIGHT
TZOFFSETFROM:+0100
TZOFFSETTO:+0200
TZNAME:CEST
DTSTART:20230326T010000
END:DAYLIGHT
BEGIN:STANDARD
TZOFFSETFROM:+0200
TZOFFSETTO:+0100
TZNAME:CET
DTSTART:20231029T010000
END:STANDARD
BEGIN:DAYLIGHT
TZOFFSETFROM:+0100
TZOFFSETTO:+0200
TZNAME:CEST
DTSTART:20240331T010000
END:DAYLIGHT
BEGIN:STANDARD
TZOFFSETFROM:+0200
TZOFFSETTO:+0100
TZNAME:CET
DTSTART:20241027T010000
END:STANDARD
BEGIN:DAYLIGHT
TZOFFSETFROM:+0100
TZOFFSETTO:+0200
TZNAME:CEST
DTSTART:20250330T010000
END:DAYLIGHT
BEGIN:STANDARD
TZOFFSETFROM:+0200
TZOFFSETTO:+0100
TZNAME:CET
DTSTART:20251026T010000
END:STANDARD
END:VTIMEZONE
BEGIN:VEVENT
DTSTART;TZID=Europe/Madrid:20240316T100000
DTEND;TZID=Europe/Madrid:20240317T180000
DTSTAMP:20260421T174053
CREATED:20240221T111407Z
LAST-MODIFIED:20240221T113812Z
UID:4943-1710583200-1710698400@circobajoeltejado.es
SUMMARY:TALLER LABORATORIO | DANZA AÉREA/DANZA VERTICAL (CONTACTO & SUSPENSIÓN)
DESCRIPTION:TALLER LABORATORIO | DANZA AÉREA/DANZA VERTICAL (CONTACTO & SUSPENSIÓN)\nDESCARGAR DOSSIER COMPLETO \n¡RESERVA AHORA escribiendo a flowstudio@gmail.com / 615 95 76 80!  \n  \nTaller Laboratorio en la Escuela Circo Bajo el Tejado donde realizaremos DANZA AÉREA (Contact Impro & danza/ prácticas corporales/ Trabajo con arnés.) \nLa danza suspendida o danza vertical en punto fijo es una “disciplina” que oscila entre la danza y el circo.  \nSe puede trabajar a diferentes alturas o a ras del suelo. \n  \nPROGRAMA \nSábado 16 Marzo // 10.00 – 14.00 y 16.00 – 20.00 \n\n10.00 – 11.30 Calentamiento en suelo\, conciencia corporal y preparación física aplicadas a la práctica con arnés.\n11.30 – 11.45 Introducción a los materiales de seguridad y buenas prácticas\n11.45 – 13.45 Trabajo aéreo. Presentación y diálogo con el elemento\n13.45 – 14.00 Vuelta al suelo y círculo\n16.00 – 18.00 Exploración guiada aérea. Descubrimiento de las dinámicas principales.\n18.00 – 19.30 Exploración guiada aérea y compañera\n19.30 – 20.00 Vuelta al suelo y circulo\n\nDomingo 17 Marzo // 10.30 – 14.30 / Jam Lab 16.30-18.00 \n\n10.30 – 12.30 Trabajo en suelo\, propuestas para la exploración del contacto.\n12.30 – 14.15 Investigación Contacto en suspensión\n14.15 – 14.30 Vuelta al suelo y círculo\n16.30 – 18.00 Jam Lab Contact y Suspensión. Espacio sonoro (Marcos)\n\n  \nINFO DE INTERÉS \n\n12 horas de Taller\nPrecio: 140 € (Reserva de 40€. Abonar resto al comienzo del taller)\nPlazas limitadas\n\nhttps://circobajoeltejado.es/wp-content/uploads/2024/02/VIDEO-TALLER-.mp4\nhttps://circobajoeltejado.es/wp-content/uploads/2024/02/VIDEO-PROMO.mp4\n  \n  \n 
URL:https://circobajoeltejado.es/event/lab-danza-aerea/
LOCATION:Circo Bajo el Tejado\, C/Gerona 8\, Gijón\, Asturias\, 33212\, España
CATEGORIES:Agenda
ATTACH;FMTTYPE=image/jpeg:https://circobajoeltejado.es/wp-content/uploads/2024/02/CARTEL-SUSPENSIONCONTACTO.jpg
END:VEVENT
BEGIN:VEVENT
DTSTART;TZID=Europe/Madrid:20231101T163000
DTEND;TZID=Europe/Madrid:20231101T180000
DTSTAMP:20260421T174053
CREATED:20231018T133651Z
LAST-MODIFIED:20231018T133651Z
UID:4901-1698856200-1698861600@circobajoeltejado.es
SUMMARY:HALLOWEEN - BOTÁNICO
DESCRIPTION:¿Te orientas de miedo?\nPrepárate para un día aterrador y disfruta de Halloween en el Jardín Botánico de Gijón. \n¿Podrás encontrar la salida? \nActividad gratuita previa inscripción. \nAbierto plazo de inscripción a partir del 24 de octubre. \nPRÓXIMA ACTIVIDAD GRATUITA  \n\n 
URL:https://circobajoeltejado.es/event/halloween-botanico/
LOCATION:Jardín Botánico de GIjón
CATEGORIES:Agenda
ATTACH;FMTTYPE=image/jpeg:https://circobajoeltejado.es/wp-content/uploads/2023/10/halloween_circo_botanico-scaled.jpg
END:VEVENT
BEGIN:VEVENT
DTSTART;TZID=Europe/Madrid:20231021T120000
DTEND;TZID=Europe/Madrid:20231021T133000
DTSTAMP:20260421T174053
CREATED:20231018T133257Z
LAST-MODIFIED:20231018T213023Z
UID:4898-1697889600-1697895000@circobajoeltejado.es
SUMMARY:TALLER CIRCO EN FAMILIA
DESCRIPTION:  \nPRÓXIMO TALLER GRATUITO DE LA COMPAÑÍA CIRCO BAJO EL TEJADO  \n 
URL:https://circobajoeltejado.es/event/taller-circo-en-familia/
LOCATION:Centro de Cultura Antiguo Instituto de Gijón
CATEGORIES:Agenda
ATTACH;FMTTYPE=image/jpeg:https://circobajoeltejado.es/wp-content/uploads/2023/10/danza_xixon.jpg
END:VEVENT
BEGIN:VEVENT
DTSTART;TZID=Europe/Madrid:20230923T110000
DTEND;TZID=Europe/Madrid:20230924T143000
DTSTAMP:20260421T174053
CREATED:20230828T115143Z
LAST-MODIFIED:20230828T115143Z
UID:4753-1695466800-1695565800@circobajoeltejado.es
SUMMARY:INTENSIVO AÉREOS INTERNACIONAL
DESCRIPTION:  \nINTENSIVO DE AÉREOS – ESPECIAL ANIVERSARIO 10 AÑOS ESCUELA CIRCO \nCon motivo del X Aniversario de la Escuela Circo Bajo el Tejado traemos este especial intensivo de Aéreos en el que contamos con la presencia internacional de Lucía Fernández venida desde Argentina para impartir este fantástico curso. \n 
URL:https://circobajoeltejado.es/event/intensivo-aereos-internacional/
LOCATION:Circo Bajo el Tejado\, C/Gerona 8\, Gijón\, Asturias\, 33212\, España
CATEGORIES:Agenda
ATTACH;FMTTYPE=image/jpeg:https://circobajoeltejado.es/wp-content/uploads/2023/08/LULA-INTENSIVO-AEREOS-copia-scaled.jpg
END:VEVENT
BEGIN:VEVENT
DTSTART;TZID=Europe/Madrid:20230902T183000
DTEND;TZID=Europe/Madrid:20230902T200000
DTSTAMP:20260421T174053
CREATED:20230828T115801Z
LAST-MODIFIED:20230828T115801Z
UID:4757-1693679400-1693684800@circobajoeltejado.es
SUMMARY:GALA X ANIVERSARIO CIRCO BAJO EL TEJADO
DESCRIPTION:  \nGALA ANIVERSARIO – ESPECIAL ANIVERSARIO 10 AÑOS ESCUELA CIRCO \nCon motivo del X Aniversario de la Escuela Circo Bajo el Tejado\, celebramos esta Gala con actuaciones circenses en el Teatro/Salón de Actos del Centro Municipal Gijón Sur (Junto a El Corte Inglés). \n \n 
URL:https://circobajoeltejado.es/event/gala-x-aniversario-circo-bajo-el-tejado/
LOCATION:Circo Bajo el Tejado\, C/Gerona 8\, Gijón\, Asturias\, 33212\, España
CATEGORIES:Agenda
ATTACH;FMTTYPE=image/jpeg:https://circobajoeltejado.es/wp-content/uploads/2023/08/CARTEL_GALA_2_SEPTIEMBRE23_519x760.jpg
END:VEVENT
BEGIN:VEVENT
DTSTART;TZID=Europe/Madrid:20230701T000000
DTEND;TZID=Europe/Madrid:20230731T235900
DTSTAMP:20260421T174053
CREATED:20230623T113642Z
LAST-MODIFIED:20230714T082341Z
UID:4613-1688169600-1690847940@circobajoeltejado.es
SUMMARY:Campamento de Verano Circo y Acrobacia Gijón 2023
DESCRIPTION:  \nCAMPAMENTO DE VERANO DE CIRCO Y ACROBACIA – VERANO GIJÓN 2023 \n  \nConsulta toda la info en www.circobajoeltejado.es/campamento-de-verano/
URL:https://circobajoeltejado.es/event/campamento-de-verano-circo-y-acrobacia-gijon-2023/
LOCATION:Circo Bajo el Tejado\, C/Gerona 8\, Gijón\, Asturias\, 33212\, España
CATEGORIES:Agenda
ATTACH;FMTTYPE=image/jpeg:https://circobajoeltejado.es/wp-content/uploads/2023/05/cartel_campamento_vERANO_Circo600x849_WEB.jpg
END:VEVENT
BEGIN:VEVENT
DTSTART;TZID=Europe/Madrid:20230701T000000
DTEND;TZID=Europe/Madrid:20230731T235900
DTSTAMP:20260421T174053
CREATED:20230620T102616Z
LAST-MODIFIED:20230714T082351Z
UID:4587-1688169600-1690847940@circobajoeltejado.es
SUMMARY:Actividades Verano 2023
DESCRIPTION:  \nTALLER INTENSIVO DE TELAS AÉREAS – VERANO GIJÓN 2023 \n  \nFiguras acrobáticas y coreografías utilizando como elemento las telas \nPráctica artística y ejercicio gimnástico se unen en las telas aéreas\, que trabajan la creatividad de cuerpo y mente.\nEs una práctica creativa y a la vez espectacular\, en que se progresa clase a clase obteniendo muy pronto efectos sorprendentes. \n \n  \nEDAD \nPara Niños\, Jóvenes & Adultos \nNIVEL \nClases Multinivel (Todos los niveles) \nHORARIO\nMartes y Jueves de 17:45h – 19:15h \nPRECIO \n1 día/semana – 41€/mes \n2 días/semana – 65 €/mes
URL:https://circobajoeltejado.es/event/actividadesverano2023/
LOCATION:Circo Bajo el Tejado\, C/Gerona 8\, Gijón\, Asturias\, 33212\, España
CATEGORIES:Agenda
ATTACH;FMTTYPE=image/jpeg:https://circobajoeltejado.es/wp-content/uploads/2023/06/IntensivoTelasJulio_23_600x849_Web.jpg
END:VEVENT
BEGIN:VEVENT
DTSTART;VALUE=DATE:20230603
DTEND;VALUE=DATE:20230604
DTSTAMP:20260421T174053
CREATED:20230505T091204Z
LAST-MODIFIED:20230519T111409Z
UID:4486-1685750400-1685836799@circobajoeltejado.es
SUMMARY:GALA CIRCO BAJO EL TEJADO 2023
DESCRIPTION:En Circo Bajo el Tejado celebramos la Gala 2023 y es un placer para nosotros contar con nuestros alumnos que podrán mostrar algunas de sus habilidades en esta inolvidable ocasión. \nSábado 3 de Junio en Gijón \nMás información en www.circobajoeltejado.es/gala2023 \nWeb Ayto. de Gijón: https://www.gijon.es/es/eventos/fin-de-curso-escuela-de-circo-bajo-el-tejado
URL:https://circobajoeltejado.es/event/gala-circo-bajo-el-tejado-2023/
LOCATION:Centro Municipal Integrado Gijón Sur\, C/ Ramón Areces\, 7\, Gijón\, Asturias\, 33210\, España
CATEGORIES:Agenda
ATTACH;FMTTYPE=image/jpeg:https://circobajoeltejado.es/wp-content/uploads/2023/05/GalaCircoFinCurso2023_600x849.jpg
END:VEVENT
BEGIN:VEVENT
DTSTART;TZID=Europe/Madrid:20230415T113000
DTEND;TZID=Europe/Madrid:20230415T190000
DTSTAMP:20260421T174053
CREATED:20230409T131402Z
LAST-MODIFIED:20230409T132451Z
UID:4260-1681558200-1681585200@circobajoeltejado.es
SUMMARY:DÍA MUNDIAL DEL CIRCO
DESCRIPTION:  \n\n\n\n  \nInscríbete ahora en nuestras actividades y talleres y ¡Pasa un día en el Circo! \nEn Circo Bajo el Tejado celebramos el Día Mundial del Circo con diversas actividades artísticas para todos los gustos desde las 11:30h hasta las 19h. \n  \nSábado 15 de Abril en Gijón \nMás info e Inscripciones rellenando el formulario en nuestra web o a través de circobajoeltejado@gmail.com \n \n \n\n\n\n 
URL:https://circobajoeltejado.es/event/actividades-dia-mundial-circo-abril-2023-circo-bajo-el-tejado-gijon/
LOCATION:Circo Bajo el Tejado\, C/Gerona 8\, Gijón\, Asturias\, 33212\, España
CATEGORIES:Agenda
ATTACH;FMTTYPE=image/jpeg:https://circobajoeltejado.es/wp-content/uploads/2023/04/Dia_MundialCirco_abril_vertical_Instagram_VC.jpg
END:VEVENT
BEGIN:VEVENT
DTSTART;TZID=Europe/Madrid:20230415T113000
DTEND;TZID=Europe/Madrid:20230415T130000
DTSTAMP:20260421T174053
CREATED:20230409T122820Z
LAST-MODIFIED:20230409T131251Z
UID:4237-1681558200-1681563600@circobajoeltejado.es
SUMMARY:TALLER CIRCO EN FAMILIA - ABRIL 2023 GIJÓN
DESCRIPTION:  \n\n\n\nEn Circo Bajo el Tejado celebramos el Día Mundial del Circo con diversas actividades artísticas para todos los gustos. \nInscríbete ahora en el Taller de Circo en Familia ¡Y disfruta en familia! \n  \nSábado 15 de Abril en Gijón \nMás info e Inscripciones rellenando el formulario en nuestra web o a través de circobajoeltejado@gmail.com \n \n \n\n\n\n 
URL:https://circobajoeltejado.es/event/taller-gijon-abril23-circo-en-familia/
LOCATION:Circo Bajo el Tejado\, C/Gerona 8\, Gijón\, Asturias\, 33212\, España
CATEGORIES:Agenda
ATTACH;FMTTYPE=image/jpeg:https://circobajoeltejado.es/wp-content/uploads/2023/04/circo_en_familia_abril_vertical_Instagram.jpg
END:VEVENT
BEGIN:VEVENT
DTSTART;TZID=Europe/Madrid:20230227T080000
DTEND;TZID=Europe/Madrid:20230303T170000
DTSTAMP:20260421T174053
CREATED:20230216T122555Z
LAST-MODIFIED:20230307T184214Z
UID:2338-1677484800-1677862800@circobajoeltejado.es
SUMMARY:ESTE COLE ES UN CIRCO
DESCRIPTION:  \n\n\n\nCirco Bajo el Tejado participa con su iniciativa El Circo va a la Escuela en el C.P Rey Pelayo. Nos encanta participar en esta edición 2023 de ¡Este Cole Es un Circo!  \n  \nDel 27 de Febrero al 3 de Marzo \nWeb Oficial: C.P Rey Pelayo\n\n\n\n\n 
URL:https://circobajoeltejado.es/event/taller-este-cole-es-un-circo-acrobacias-y-malabares/
LOCATION:Asturias
CATEGORIES:Agenda
ATTACH;FMTTYPE=image/jpeg:https://circobajoeltejado.es/wp-content/uploads/2023/02/CircoVaALaEscuelaMarzo2023_para_WEB.jpg
END:VEVENT
BEGIN:VEVENT
DTSTART;TZID=Europe/Madrid:20230226T080000
DTEND;TZID=Europe/Madrid:20230303T170000
DTSTAMP:20260421T174053
CREATED:20230215T085029Z
LAST-MODIFIED:20230307T184029Z
UID:933-1677398400-1677862800@circobajoeltejado.es
SUMMARY:FETEN 2023
DESCRIPTION:  \n\n\n\nCirco Bajo el Tejado participa en esta fantástica edición FETEN 2023 que promete sorprender y divertir al público. \n¡VEN y DISFRUTA DE LA BELLA EXPERIENCIA DEL CIRCO! \nDel 23 de Febrero al 3 de Marzo \nMás información en: Feten Web Oficial \nPROGRAMA PÚBLICO GENERAL \n \n\n\n\n\n¡Te recomendamos algunos espectáculos y actividades que no nos queremos perder! \n\nACTIVIDAD Museo Encantado (Ver más) – PASES: 26 Febrero 2023 – 27 Febrero 2023 – 28 Febrero 2023 / 17:30-19:30\n\n\nESPECTÁCULO Espacio Petite Caravane (Adrián Conde Espectáculos) (Ver más) – PASES: 27 y 28 Febrero 2023 – 1\,2 y 3 de Marzo/ 17:00-19:30\n\n\nESPECTÁCULO Dúo Kaos (Ver Más)\n\n \n\nESPECTÁCULO Kine Circus Etiopía (Ver más)\n\n \n\nESPECTÁCULO Iziar Blue-Sekai (Ver más)\n\n \n\nESPECTÁCULO Up Arte (Ver más)\n\n \n 
URL:https://circobajoeltejado.es/event/circo-bajo-el-tejado-visita-feten-2023/
LOCATION:Asturias
CATEGORIES:Agenda
ATTACH;FMTTYPE=image/jpeg:https://circobajoeltejado.es/wp-content/uploads/2022/11/Circo_Eventos_FETEN_2022_23.jpg
END:VEVENT
BEGIN:VEVENT
DTSTART;TZID=Europe/Madrid:20221223T160000
DTEND;TZID=Europe/Madrid:20230104T200000
DTSTAMP:20260421T174053
CREATED:20221222T135915Z
LAST-MODIFIED:20230307T184656Z
UID:2123-1671811200-1672862400@circobajoeltejado.es
SUMMARY:MERCAPLANA 2022/2023
DESCRIPTION:  \n\n\n\nCirco Bajo el Tejado participa en el 50 Salón De Navidad Para La Infancia Y La Juventud donde podrás disfrutar de acrobacias y circo. \n¡VEN A VISITARNOS! \n  \n  \nDel 23 de Diciembre al 4 de Enero* \n* Cerrado: 24 y 31 de Diciembre 2022 \nMás información en: Mercaplana Web Oficial\n\n\n\n\n 
URL:https://circobajoeltejado.es/event/escuela-de-circo-acrobatico-malabares-y-equilibrios/
LOCATION:Recinto Ferial de Asturias Luis Adaro\, Paseo Dr. Fleming\, 481\, Gijón\, Asturias\, 33203\, España
CATEGORIES:Agenda
ATTACH;FMTTYPE=image/png:https://circobajoeltejado.es/wp-content/uploads/2022/12/22_Evento_50-mercaplana.png
END:VEVENT
END:VCALENDAR