BEGIN:VCALENDAR
VERSION:2.0
PRODID:-//Circo bajo el Tejado - ECPv6.15.20//NONSGML v1.0//EN
CALSCALE:GREGORIAN
METHOD:PUBLISH
X-WR-CALNAME:Circo bajo el Tejado
X-ORIGINAL-URL:https://circobajoeltejado.es
X-WR-CALDESC:Eventos para Circo bajo el Tejado
REFRESH-INTERVAL;VALUE=DURATION:PT1H
X-Robots-Tag:noindex
X-PUBLISHED-TTL:PT1H
BEGIN:VTIMEZONE
TZID:Europe/Madrid
BEGIN:DAYLIGHT
TZOFFSETFROM:+0100
TZOFFSETTO:+0200
TZNAME:CEST
DTSTART:20210328T010000
END:DAYLIGHT
BEGIN:STANDARD
TZOFFSETFROM:+0200
TZOFFSETTO:+0100
TZNAME:CET
DTSTART:20211031T010000
END:STANDARD
BEGIN:DAYLIGHT
TZOFFSETFROM:+0100
TZOFFSETTO:+0200
TZNAME:CEST
DTSTART:20220327T010000
END:DAYLIGHT
BEGIN:STANDARD
TZOFFSETFROM:+0200
TZOFFSETTO:+0100
TZNAME:CET
DTSTART:20221030T010000
END:STANDARD
BEGIN:DAYLIGHT
TZOFFSETFROM:+0100
TZOFFSETTO:+0200
TZNAME:CEST
DTSTART:20230326T010000
END:DAYLIGHT
BEGIN:STANDARD
TZOFFSETFROM:+0200
TZOFFSETTO:+0100
TZNAME:CET
DTSTART:20231029T010000
END:STANDARD
BEGIN:DAYLIGHT
TZOFFSETFROM:+0100
TZOFFSETTO:+0200
TZNAME:CEST
DTSTART:20240331T010000
END:DAYLIGHT
BEGIN:STANDARD
TZOFFSETFROM:+0200
TZOFFSETTO:+0100
TZNAME:CET
DTSTART:20241027T010000
END:STANDARD
END:VTIMEZONE
BEGIN:VEVENT
DTSTART;TZID=Europe/Madrid:20221223T160000
DTEND;TZID=Europe/Madrid:20230104T200000
DTSTAMP:20260425T122543
CREATED:20221222T135915Z
LAST-MODIFIED:20230307T184656Z
UID:2123-1671811200-1672862400@circobajoeltejado.es
SUMMARY:MERCAPLANA 2022/2023
DESCRIPTION:  \n\n\n\nCirco Bajo el Tejado participa en el 50 Salón De Navidad Para La Infancia Y La Juventud donde podrás disfrutar de acrobacias y circo. \n¡VEN A VISITARNOS! \n  \n  \nDel 23 de Diciembre al 4 de Enero* \n* Cerrado: 24 y 31 de Diciembre 2022 \nMás información en: Mercaplana Web Oficial\n\n\n\n\n 
URL:https://circobajoeltejado.es/event/escuela-de-circo-acrobatico-malabares-y-equilibrios/
LOCATION:Recinto Ferial de Asturias Luis Adaro\, Paseo Dr. Fleming\, 481\, Gijón\, Asturias\, 33203\, España
CATEGORIES:Agenda
ATTACH;FMTTYPE=image/png:https://circobajoeltejado.es/wp-content/uploads/2022/12/22_Evento_50-mercaplana.png
END:VEVENT
END:VCALENDAR